BEGIN:VCALENDAR
VERSION:2.0
PRODID:-//Tukios.com/
BEGIN:VEVENT
UID:28dbf3b5-34bf-49cc-b4d7-13619045b09a@www.jamesfh.com
DTSTAMP:20260422T052625Z
DTSTART:20260509T160000Z
DTEND:20260509T170000Z
SUMMARY:Memorial Service
DESCRIPTION:
URL:https://www.jamesfh.com/obituaries/linda-adkins
LOCATION:Chief Logan State Park Shelter #3 376 Little Buffalo Creek Road  
	Logan WV 25601
GEO:37.8938238;-82.0197368
END:VEVENT
END:VCALENDAR