BEGIN:VCALENDAR
VERSION:2.0
PRODID:-//Tukios.com/
BEGIN:VEVENT
UID:6cf1db41-259b-4216-b04a-40dfed85cad9@www.jamesfh.com
DTSTAMP:20260421T081305Z
DTSTART:20260422T150000Z
DTEND:20260422T160000Z
SUMMARY:Funeral Service
DESCRIPTION:
URL:https://www.jamesfh.com/obituaries/daisy-adkins
LOCATION:Akers-James Funeral Home 832 Old Logan Rd  Logan WV 25601
GEO:37.858906;-81.991676
END:VEVENT
END:VCALENDAR