BEGIN:VCALENDAR
VERSION:2.0
PRODID:-//Tukios.com/
BEGIN:VEVENT
UID:8e8e304b-7d13-49d2-bb60-6c11ee4c716e@www.jamesfh.com
DTSTAMP:20260421T081751Z
DTSTART:20260421T220000Z
DTEND:20260422T010000Z
SUMMARY:Visitation
DESCRIPTION:
URL:https://www.jamesfh.com/obituaries/daisy-adkins
LOCATION:Akers-James Funeral Home 832 Old Logan Rd  Logan WV 25601
GEO:37.858906;-81.991676
END:VEVENT
END:VCALENDAR