BEGIN:VCALENDAR
VERSION:2.0
PRODID:-//Tukios.com/
BEGIN:VEVENT
UID:72157b91-9f8e-445b-9382-af20d30861cc@www.jamesfh.com
DTSTAMP:20260420T214539Z
DTSTART:20260422T170000Z
DTEND:20260422T180000Z
SUMMARY:Funeral Service
DESCRIPTION:
URL:https://www.jamesfh.com/obituaries/blakelynn-new
LOCATION:Akers-James Funeral Home 832 Old Logan Rd  Logan WV 25601
GEO:37.858906;-81.991676
END:VEVENT
END:VCALENDAR